Workbook

Sheet 入力マニュアル

Sheet ★歩数記録表1か月目
H2: １か月目
A3: チャレンジする方の名前 | C3: 様
A4: ＊目 標 設 定＊1日 | C4: 歩
A5: 歩数以外の目標
A7: 開始日： | C7: ←開始日を入力（例：2026/04/10）
B8: １日目 | C8: ２日目 | D8: ３日目 | E8: ４日目 | F8: ５日目 | G8: ６日目 | H8: ７日目 | I8: 1週間平均
A9: 日付 | B9: =IF(B7="","",B7) | C9: =IF(B9="","",B9+1) | D9: =IF(C9="","",C9+1) | E9: =IF(D9="","",D9+1) | F9: =IF(E9="","",E9+1) | G9: =IF(F9="","",F9+1) | H9: =IF(G9="","",G9+1)
A10: 歩数 | I10: =IFERROR(AVERAGE(B10:H10),"")
A12: 活動の記録
A13: いいわけ
B14: ８日目 | C14: ９日目 | D14: １０日目 | E14: １１日目 | F14: １２日目 | G14: １３日目 | H14: １４日目 | I14: 1週間平均
A15: 日付 | B15: =IF(H9="","",H9+1) | C15: =IF(B15="","",B15+1) | D15: =IF(C15="","",C15+1) | E15: =IF(D15="","",D15+1) | F15: =IF(E15="","",E15+1) | G15: =IF(F15="","",F15+1) | H15: =IF(G15="","",G15+1)
A16: 歩数 | I16: =IFERROR(AVERAGE(B16:H16),"")
A18: 活動の記録
A19: いいわけ
B20: １５日目 | C20: １６日目 | D20: １７日目 | E20: １８日目 | F20: １９日目 | G20: ２０日目 | H20: ２１日目 | I20: 1週間平均
A21: 日付 | B21: =IF(H15="","",H15+1) | C21: =IF(B21="","",B21+1) | D21: =IF(C21="","",C21+1) | E21: =IF(D21="","",D21+1) | F21: =IF(E21="","",E21+1) | G21: =IF(F21="","",F21+1) | H21: =IF(G21="","",G21+1)
A22: 歩数 | I22: =IFERROR(AVERAGE(B22:H22),"")
A24: 活動の記録
A25: いいわけ
B26: ２２日目 | C26: ２３日目 | D26: ２４日目 | E26: ２５日目 | F26: ２６日目 | G26: ２７日目 | H26: ２８日目 | I26: 1週間平均
A27: 日付 | B27: =IF(H21="","",H21+1) | C27: =IF(B27="","",B27+1) | D27: =IF(C27="","",C27+1) | E27: =IF(D27="","",D27+1) | F27: =IF(E27="","",E27+1) | G27: =IF(F27="","",F27+1) | H27: =IF(G27="","",G27+1)
A28: 歩数 | I28: =IFERROR(AVERAGE(B28:H28),"")
A30: 活動の記録
A31: いいわけ
B32: ２９日目 | C32: ３０日目 | D32: ３１日目 | E32: 1か月の平均 | F32: 1か月目、お疲れさまでした。記録がおわりましたら、 健康づくり支援センターへ返送して、２か月目の記録表を使用してチャレンジを続けてください。後日、応援メッセージとおすすめ動画のご案内をいたします。
A33: 日付 | B33: =IF(H27="","",H27+1) | C33: =IF(B33="","",B33+1) | D33: =IF(C33="","",C33+1)
A34: 歩数 | E34: =IFERROR(AVERAGE(B10:H10,B16:H16,B22:H22,B28:H28,B34:D34),"")
F35: 〖お問い合わせ先〗 （公財）武蔵野健康づくり事業団 健康づくり支援センター 〒180-0001 武蔵野市吉祥寺北町4-8-10 保健センター ☎0422-51-0793
A36: 活動の記録
A37: いいわけ
A38: ①1か月間チャレンジをして、歩数や活動の変化はありましたか。
A39: ■ | B39: あった | D39: □ | E39: なかった
A40: ②変化したところ、チャレンジした感想などおきかせください。

Sheet ★歩数記録表2カ月目
H2: 2か月目
A3: チャレンジする方の名前 | C3: =★歩数記録表1か月目!C3 -> 様 | I3: =★歩数記録表1か月目!I3 -> 0
A4: ＊目 標 設 定＊1日 | C4: 歩
A5: 歩数以外の目標
B7: =★歩数記録表1か月目!D33
B8: １日目 | C8: ２日目 | D8: ３日目 | E8: ４日目 | F8: ５日目 | G8: ６日目 | H8: ７日目 | I8: 1週間平均
A9: 日付 | B9: =IF(B7="","",B7+1) | C9: =IF(B9="","",B9+1) | D9: =IF(C9="","",C9+1) | E9: =IF(D9="","",D9+1) | F9: =IF(E9="","",E9+1) | G9: =IF(F9="","",F9+1) | H9: =IF(G9="","",G9+1)
A10: 歩数 | I10: =IFERROR(AVERAGE(B10:H10),"")
A12: 活動の記録
A13: いいわけ
B14: ８日目 | C14: ９日目 | D14: １０日目 | E14: １１日目 | F14: １２日目 | G14: １３日目 | H14: １４日目 | I14: 1週間平均
A15: 日付 | B15: =IF(H9="","",H9+1) | C15: =IF(B15="","",B15+1) | D15: =IF(C15="","",C15+1) | E15: =IF(D15="","",D15+1) | F15: =IF(E15="","",E15+1) | G15: =IF(F15="","",F15+1) | H15: =IF(G15="","",G15+1)
A16: 歩数 | I16: =IFERROR(AVERAGE(B16:H16),"")
A18: 活動の記録
A19: いいわけ
B20: １５日目 | C20: １６日目 | D20: １７日目 | E20: １８日目 | F20: １９日目 | G20: ２０日目 | H20: ２１日目 | I20: 1週間平均
A21: 日付 | B21: =IF(H15="","",H15+1) | C21: =IF(B21="","",B21+1) | D21: =IF(C21="","",C21+1) | E21: =IF(D21="","",D21+1) | F21: =IF(E21="","",E21+1) | G21: =IF(F21="","",F21+1) | H21: =IF(G21="","",G21+1)
A22: 歩数 | I22: =IFERROR(AVERAGE(B22:H22),"")
A24: 活動の記録
A25: いいわけ
B26: ２２日目 | C26: ２３日目 | D26: ２４日目 | E26: ２５日目 | F26: ２６日目 | G26: ２７日目 | H26: ２８日目 | I26: 1週間平均
A27: 日付 | B27: =IF(H21="","",H21+1) | C27: =IF(B27="","",B27+1) | D27: =IF(C27="","",C27+1) | E27: =IF(D27="","",D27+1) | F27: =IF(E27="","",E27+1) | G27: =IF(F27="","",F27+1) | H27: =IF(G27="","",G27+1)
A28: 歩数 | I28: =IFERROR(AVERAGE(B28:H28),"")
A30: 活動の記録
A31: いいわけ
B32: ２９日目 | C32: ３０日目 | D32: ３１日目 | E32: 1か月の平均 | F32: お疲れさまでした。今月分の記録がおわりましたら、健康づくり支援センターへ返送して、3か月目の記録表を使用してチャレンジを続けてください。後日応援メッセージとおすすめ動画のご案内をいたします。
A33: 日付 | B33: =IF(H27="","",H27+1) | C33: =IF(B33="","",B33+1) | D33: =IF(C33="","",C33+1)
A34: 歩数 | E34: =IFERROR(AVERAGE(B10:G10,B16:H16,B22:H22,B28:H28,B34:D34),"")
F35: 〖お問い合わせ先〗 （公財）武蔵野健康づくり事業団 健康づくり支援センター 〒180-0001 武蔵野市吉祥寺北町4-8-10 保健センター ☎0422-51-0793
A36: 活動の記録
A37: いいわけ
A38: ①2か月間チャレンジをして、歩数や活動の変化はありましたか。
A39: □ | B39: あった | D39: □ | E39: なかった
A40: ②変化したところ、チャレンジした感想などおきかせください。

Sheet ★歩数記録表3か月目
H2: 3か月目
A3: チャレンジする方の名前 | C3: =★歩数記録表1か月目!C3 -> 様 | I3: =★歩数記録表1か月目!I3 -> 0
A4: ＊目 標 設 定＊1日 | C4: 歩
A5: 歩数以外の目標
B7: =★歩数記録表2カ月目!D33
B8: １日目 | C8: ２日目 | D8: ３日目 | E8: ４日目 | F8: ５日目 | G8: ６日目 | H8: ７日目 | I8: 1週間平均
A9: 日付 | B9: =IF(B7="","",B7) | C9: =IF(B9="","",B9+1) | D9: =IF(C9="","",C9+1) | E9: =IF(D9="","",D9+1) | F9: =IF(E9="","",E9+1) | G9: =IF(F9="","",F9+1) | H9: =IF(G9="","",G9+1)
A10: 歩数 | I10: =IFERROR(AVERAGE(B10:H10),"")
A12: 活動の記録
A13: いいわけ
B14: ８日目 | C14: ９日目 | D14: １０日目 | E14: １１日目 | F14: １２日目 | G14: １３日目 | H14: １４日目 | I14: 1週間平均
A15: 日付 | B15: =IF(H9="","",H9+1) | C15: =IF(B15="","",B15+1) | D15: =IF(C15="","",C15+1) | E15: =IF(D15="","",D15+1) | F15: =IF(E15="","",E15+1) | G15: =IF(F15="","",F15+1) | H15: =IF(G15="","",G15+1)
A16: 歩数 | I16: =IFERROR(AVERAGE(B16:H16),"")
A18: 活動の記録
A19: いいわけ
B20: １５日目 | C20: １６日目 | D20: １７日目 | E20: １８日目 | F20: １９日目 | G20: ２０日目 | H20: ２１日目 | I20: 1週間平均
A21: 日付 | B21: =IF(H15="","",H15+1) | C21: =IF(B21="","",B21+1) | D21: =IF(C21="","",C21+1) | E21: =IF(D21="","",D21+1) | F21: =IF(E21="","",E21+1) | G21: =IF(F21="","",F21+1) | H21: =IF(G21="","",G21+1)
A22: 歩数 | I22: =IFERROR(AVERAGE(B22:H22),"")
A24: 活動の記録
A25: いいわけ
B26: ２２日目 | C26: ２３日目 | D26: ２４日目 | E26: ２５日目 | F26: ２６日目 | G26: ２７日目 | H26: ２８日目 | I26: 1週間平均
A27: 日付 | B27: =IF(H21="","",H21+1) | C27: =IF(B27="","",B27+1) | D27: =IF(C27="","",C27+1) | E27: =IF(D27="","",D27+1) | F27: =IF(E27="","",E27+1) | G27: =IF(F27="","",F27+1) | H27: =IF(G27="","",G27+1)
A28: 歩数 | I28: =IFERROR(AVERAGE(B28:H28),"")
A30: 活動の記録
A31: いいわけ
B32: ２９日目 | C32: ３０日目 | D32: ３１日目 | E32: 1か月の平均 | F32: 3か月間、お疲れさまでした。今月分の記録がおわりましたら、健康づくり支援センターへ返送してください。 修了証などをお送りいたします。 引き続きチャレンジをつづけてください。
A33: 日付 | B33: =IF(H27="","",H27+1) | C33: =IF(B33="","",B33+1) | D33: =IF(C33="","",C33+1)
A34: 歩数 | E34: =IFERROR(AVERAGE(B10:H10,B16:H16,B22:H22,B28:H28,B34:D34),"")
F35: 〖お問い合わせ先〗 （公財）武蔵野健康づくり事業団 健康づくり支援センター 〒180-0001 武蔵野市吉祥寺北町4-8-10 保健センター ☎0422-51-0793
A36: 活動の記録
A37: いいわけ
A38: ①3か月間チャレンジをして、歩数や活動の変化はありましたか。
A39: □ | B39: あった | E39: □ | F39: なかった
A40: ②3か月チャレンジした感想やからだの変化などおきかせください。
